BEGIN:VCALENDAR
VERSION:2.0
PRODID:-//wp-events-plugin.com//6.6.5//EN
TZID:Europe/Berlin
X-WR-TIMEZONE:Europe/Berlin
BEGIN:VEVENT
UID:5348@kgsjw.de
DTSTART;TZID=Europe/Berlin:20260420T190000
DTEND;TZID=Europe/Berlin:20260420T210000
DTSTAMP:20260418T174003Z
URL:https://kgsjw.de/veranstaltungen/der-spur-des-glaubens-folgen-neuland-
 entdecken-2026-04-20/
SUMMARY:Der Spur des Glaubens folgen - Neuland entdecken
DESCRIPTION:Ein Vertiefungskurs zu Fragen des Glaubens für alle Altersgrup
 pen\, unabhängig von der Zugehörigkeit zu einer Kirche oder Konfession. 
 Der Kursinhalt ergibt sich durch die Interaktionen in der Gruppe.\n\nTeiln
 ahme nur nach vorheriger Anmeldung\, die Teilnehmerzahl ist auf 12 begrenz
 t.\n\nMehr Informationen unter https://kgsjw.de/angebote/gemeindegruppen/n
 euland-entdecken/
ATTACH;FMTTYPE=image/jpeg:https://kgsjw.de/wp-content/uploads/2026/04/Glau
 benskurs_square.jpg
CATEGORIES:Gesprächskreise,Glaube
LOCATION:Margret und Hans-Gerd Möller\, Mühlenkampstr. 41\, Wunstorf\, 31
 515\, Deutschland
X-APPLE-STRUCTURED-LOCATION;VALUE=URI;X-ADDRESS=Mühlenkampstr. 41\, Wunsto
 rf\, 31515\, Deutschland;X-APPLE-RADIUS=100;X-TITLE=Margret und Hans-Gerd 
 Möller:geo:0,0
END:VEVENT
BEGIN:VTIMEZONE
TZID:Europe/Berlin
X-LIC-LOCATION:Europe/Berlin
BEGIN:DAYLIGHT
DTSTART:20260329T030000
TZOFFSETFROM:+0100
TZOFFSETTO:+0200
TZNAME:CEST
END:DAYLIGHT
END:VTIMEZONE
END:VCALENDAR