BEGIN:VCALENDAR
VERSION:2.0
PRODID:-//wp-events-plugin.com//6.6.5//EN
TZID:Europe/Berlin
X-WR-TIMEZONE:Europe/Berlin
BEGIN:VEVENT
UID:5124@kgsjw.de
DTSTART;TZID=Europe/Berlin:20260525T200000
DTEND;TZID=Europe/Berlin:20260525T213000
DTSTAMP:20260115T143742Z
URL:https://kgsjw.de/veranstaltungen/blaeserkreis-wunstorf-2026-05-25/
SUMMARY:Bläserkreis Wunstorf
DESCRIPTION:Für die Instrumente Trompete\, Horn\, Tenorhorn\, Posaune und 
 Tuba sucht der Bläserkreis Nachwuchs und Laienmusiker\, die bereits eines
  der genannten Instrumente spielen können. Leihinstrumente können bei Be
 darf zur Verfügung gestellt werden.
ATTACH;FMTTYPE=image/jpeg:https://kgsjw.de/wp-content/uploads/2024/05/fren
 chhorn_square.jpg
CATEGORIES:Bläserkreis,Musik
LOCATION:Gemeindezentrum\, Albrecht-Dürer-Str. 3a\, Wunstorf\, 31515\, Deu
 tschland
X-APPLE-STRUCTURED-LOCATION;VALUE=URI;X-ADDRESS=Albrecht-Dürer-Str. 3a\, W
 unstorf\, 31515\, Deutschland;X-APPLE-RADIUS=100;X-TITLE=Gemeindezentrum:g
 eo:0,0
END:VEVENT
BEGIN:VTIMEZONE
TZID:Europe/Berlin
X-LIC-LOCATION:Europe/Berlin
BEGIN:DAYLIGHT
DTSTART:20260329T030000
TZOFFSETFROM:+0100
TZOFFSETTO:+0200
TZNAME:CEST
END:DAYLIGHT
END:VTIMEZONE
END:VCALENDAR